BEGIN:VCALENDAR
VERSION:2.0
PRODID:-//Dan River Nonprofit Network - ECPv6.15.20//NONSGML v1.0//EN
CALSCALE:GREGORIAN
METHOD:PUBLISH
X-WR-CALNAME:Dan River Nonprofit Network
X-ORIGINAL-URL:https://danrivernonprofits.org
X-WR-CALDESC:Events for Dan River Nonprofit Network
REFRESH-INTERVAL;VALUE=DURATION:PT1H
X-Robots-Tag:noindex
X-PUBLISHED-TTL:PT1H
BEGIN:VTIMEZONE
TZID:America/New_York
BEGIN:DAYLIGHT
TZOFFSETFROM:-0500
TZOFFSETTO:-0400
TZNAME:EDT
DTSTART:20180311T070000
END:DAYLIGHT
BEGIN:STANDARD
TZOFFSETFROM:-0400
TZOFFSETTO:-0500
TZNAME:EST
DTSTART:20181104T060000
END:STANDARD
BEGIN:DAYLIGHT
TZOFFSETFROM:-0500
TZOFFSETTO:-0400
TZNAME:EDT
DTSTART:20190310T070000
END:DAYLIGHT
BEGIN:STANDARD
TZOFFSETFROM:-0400
TZOFFSETTO:-0500
TZNAME:EST
DTSTART:20191103T060000
END:STANDARD
BEGIN:DAYLIGHT
TZOFFSETFROM:-0500
TZOFFSETTO:-0400
TZNAME:EDT
DTSTART:20200308T070000
END:DAYLIGHT
BEGIN:STANDARD
TZOFFSETFROM:-0400
TZOFFSETTO:-0500
TZNAME:EST
DTSTART:20201101T060000
END:STANDARD
END:VTIMEZONE
BEGIN:VEVENT
DTSTART;TZID=America/New_York:20190716T173000
DTEND;TZID=America/New_York:20190716T190000
DTSTAMP:20260423T052238
CREATED:20190614T141002Z
LAST-MODIFIED:20190614T141002Z
UID:10000214-1563298200-1563303600@danrivernonprofits.org
SUMMARY:Let it Bee - Nonprofit Paint Night
DESCRIPTION:This painting is un-BEE-lievable! Come out on to the Main Street Art Collective on Tuesday\, July 16th from 5:30-7PM to create this buzz-worthy acrylic 11 x 14 canvas painting – no experience needed. Local artist Sheri Hardy Turner will lead our paintbrushes at this event! A portion of the proceeds from this class will go towards local nonprofit support offered at the Dan River Nonprofit Network\, a registered 501c3!\n\n\n \n\n\nSince beauty is in the eye of the bee-holder and we love puns\, you’ll be able to customize this painting – or keep it clean and simple! Added phrase options are your choice:\n\n\n \n\n\nQueen Bee\n\n\nBee Kind\n\n\nBusy Bee\n\n\nWinging It\n\n\nBee Yourself\n\n\nHave A Bee-utiful Day!\n\n\nMeant to Bee\n\n\n…and more!\n\n\n \n\n\nRegister using the Eventbrite link or in person at the Dan River Nonprofit Network using cash or check. Minimum of 5 people required\, registration deadline is July 12th. Honey\, you don’t want to miss this so bee there\, or bee square.\nTickets
URL:https://danrivernonprofits.org/dan-river-event/let-it-bee-nonprofit-paint-night/
LOCATION:Main Street Art Collective\, 326 Main St #100\, Danville\, VA\, 24541\, United States
CATEGORIES:General Event,Networking
ORGANIZER;CN="Dan River Nonprofit Network":MAILTO:info@danrivernonprofits.org
GEO:36.5882985;-79.3913851
X-APPLE-STRUCTURED-LOCATION;VALUE=URI;X-ADDRESS=Main Street Art Collective 326 Main St #100 Danville VA 24541 United States;X-APPLE-RADIUS=500;X-TITLE=326 Main St #100:geo:-79.3913851,36.5882985
END:VEVENT
END:VCALENDAR